BEGIN:VCALENDAR
VERSION:2.0
PRODID:-//EntWicklungsQuelle - ECPv6.15.20//NONSGML v1.0//EN
CALSCALE:GREGORIAN
METHOD:PUBLISH
X-WR-CALNAME:EntWicklungsQuelle
X-ORIGINAL-URL:https://entwicklungsquelle.de
X-WR-CALDESC:Veranstaltungen für EntWicklungsQuelle
REFRESH-INTERVAL;VALUE=DURATION:PT1H
X-Robots-Tag:noindex
X-PUBLISHED-TTL:PT1H
BEGIN:VTIMEZONE
TZID:Europe/Berlin
BEGIN:DAYLIGHT
TZOFFSETFROM:+0100
TZOFFSETTO:+0200
TZNAME:CEST
DTSTART:20250330T010000
END:DAYLIGHT
BEGIN:STANDARD
TZOFFSETFROM:+0200
TZOFFSETTO:+0100
TZNAME:CET
DTSTART:20251026T010000
END:STANDARD
BEGIN:DAYLIGHT
TZOFFSETFROM:+0100
TZOFFSETTO:+0200
TZNAME:CEST
DTSTART:20260329T010000
END:DAYLIGHT
BEGIN:STANDARD
TZOFFSETFROM:+0200
TZOFFSETTO:+0100
TZNAME:CET
DTSTART:20261025T010000
END:STANDARD
BEGIN:DAYLIGHT
TZOFFSETFROM:+0100
TZOFFSETTO:+0200
TZNAME:CEST
DTSTART:20270328T010000
END:DAYLIGHT
BEGIN:STANDARD
TZOFFSETFROM:+0200
TZOFFSETTO:+0100
TZNAME:CET
DTSTART:20271031T010000
END:STANDARD
END:VTIMEZONE
BEGIN:VEVENT
DTSTART;TZID=Europe/Berlin:20260704T093000
DTEND;TZID=Europe/Berlin:20260704T183000
DTSTAMP:20260423T162521
CREATED:20250331T101918Z
LAST-MODIFIED:20250331T101918Z
UID:2328-1783157400-1783189800@entwicklungsquelle.de
SUMMARY:Aufbau-Ausbildung integrative Kinesiologie 2025/2026/2027 WE 3 von 6
DESCRIPTION:Aufbau-Ausbildung integrative Kinesiologie 2025/2026/2027 WE 3 von 6 \nAlle zwei Jahre\, beginnend im November\, biete ich den Absolventen der Grundausbildung in integrativer Kinesiologie eine Aufbau-Ausbildung an. Sie ist auch für Teilnehmerinnen geöffnet\, die ihre Grundausbildung außerhalb der EntWicklungsQuelle erworben haben. \nIn der Aufbau-Ausbildung werden neue\, weitere Auflösungsmethoden vermittelt\, um den eigenen Methodenkoffer zu erweitern. Außerdem lösen wir eine Menge eigener Themen aus unterschiedlichen Lebensbereichen\, um unsere Persönlichkeit und unseren ureigenen Charakter weiter auszubilden. \nEs handelt sich um sechs Präsenzwochenenden in Leopoldshöhe und die Plätze sind heiß begehrt. 🙂 Mehr über die Ausbildung erfährst Du hier.
URL:https://entwicklungsquelle.de/event/aufbau-ausbildung-integrative-kinesiologie-2025-2026-2027-we-3-von-6/
LOCATION:EntWicklungsQuelle\, Herforder Str. 249\, Leopoldshöhe\, 33818
CATEGORIES:Akademie
ORGANIZER;CN="Sabine Diekmeier":MAILTO:info@entwicklungsquelle.de
END:VEVENT
END:VCALENDAR