BEGIN:VCALENDAR
VERSION:2.0
PRODID:-//EntWicklungsQuelle - ECPv6.15.20//NONSGML v1.0//EN
CALSCALE:GREGORIAN
METHOD:PUBLISH
X-WR-CALNAME:EntWicklungsQuelle
X-ORIGINAL-URL:https://entwicklungsquelle.de
X-WR-CALDESC:Veranstaltungen für EntWicklungsQuelle
REFRESH-INTERVAL;VALUE=DURATION:PT1H
X-Robots-Tag:noindex
X-PUBLISHED-TTL:PT1H
BEGIN:VTIMEZONE
TZID:Europe/Berlin
BEGIN:DAYLIGHT
TZOFFSETFROM:+0100
TZOFFSETTO:+0200
TZNAME:CEST
DTSTART:20240331T010000
END:DAYLIGHT
BEGIN:STANDARD
TZOFFSETFROM:+0200
TZOFFSETTO:+0100
TZNAME:CET
DTSTART:20241027T010000
END:STANDARD
BEGIN:DAYLIGHT
TZOFFSETFROM:+0100
TZOFFSETTO:+0200
TZNAME:CEST
DTSTART:20250330T010000
END:DAYLIGHT
BEGIN:STANDARD
TZOFFSETFROM:+0200
TZOFFSETTO:+0100
TZNAME:CET
DTSTART:20251026T010000
END:STANDARD
BEGIN:DAYLIGHT
TZOFFSETFROM:+0100
TZOFFSETTO:+0200
TZNAME:CEST
DTSTART:20260329T010000
END:DAYLIGHT
BEGIN:STANDARD
TZOFFSETFROM:+0200
TZOFFSETTO:+0100
TZNAME:CET
DTSTART:20261025T010000
END:STANDARD
END:VTIMEZONE
BEGIN:VEVENT
DTSTART;TZID=Europe/Berlin:20251211T180000
DTEND;TZID=Europe/Berlin:20251211T200000
DTSTAMP:20260423T195653
CREATED:20251112T085717Z
LAST-MODIFIED:20251112T085717Z
UID:2767-1765476000-1765483200@entwicklungsquelle.de
SUMMARY:Hut-Event "Seelenreise der Erdung & Reinigung"
DESCRIPTION:Seelenreise der Erdung & Reinigung\, mit Klangschalen und einer Elise-Mila-Energieübertragung \nLass Dich auf eine Seelenreise mitnehmen\, die dich tief erdet\, reinigt und in deine innere Balance zurückbringt. Die sanften Klänge der Klangschale tragen dich\, während die Elise-Mila-Energie dich liebevoll durchströmt und harmonisiert. Du darfst loslassen\, auftanken und dich neu ausrichten – getragen in einem Feld von Ruhe und Licht. \nEin Abend von und mit Heike Schöne aus Lemgo. \nWie bei jedem Hut-Event ist die Teilnahme kostenlos. Bitte buche Dir ein 0€ Ticket unter „Termin buchen“\, damit wir die Teilnehmerzahl einschätzen können. Im Anschluss wird um eine Spende in den Hut für die Veranstalterin gebeten.
URL:https://entwicklungsquelle.de/event/hut-event-seelenreise-der-erdung-reinigung/
LOCATION:EntWicklungsQuelle\, Herforder Str. 249\, Leopoldshöhe\, 33818
CATEGORIES:Hut-Event
ORGANIZER;CN="Heike Sch%C3%B6ne":MAILTO:seelenwelt.zips@gmail.com
END:VEVENT
END:VCALENDAR