BEGIN:VCALENDAR
VERSION:2.0
PRODID:-//EntWicklungsQuelle - ECPv6.15.20//NONSGML v1.0//EN
CALSCALE:GREGORIAN
METHOD:PUBLISH
X-WR-CALNAME:EntWicklungsQuelle
X-ORIGINAL-URL:https://entwicklungsquelle.de
X-WR-CALDESC:Veranstaltungen für EntWicklungsQuelle
REFRESH-INTERVAL;VALUE=DURATION:PT1H
X-Robots-Tag:noindex
X-PUBLISHED-TTL:PT1H
BEGIN:VTIMEZONE
TZID:Europe/Berlin
BEGIN:DAYLIGHT
TZOFFSETFROM:+0100
TZOFFSETTO:+0200
TZNAME:CEST
DTSTART:20250330T010000
END:DAYLIGHT
BEGIN:STANDARD
TZOFFSETFROM:+0200
TZOFFSETTO:+0100
TZNAME:CET
DTSTART:20251026T010000
END:STANDARD
BEGIN:DAYLIGHT
TZOFFSETFROM:+0100
TZOFFSETTO:+0200
TZNAME:CEST
DTSTART:20260329T010000
END:DAYLIGHT
BEGIN:STANDARD
TZOFFSETFROM:+0200
TZOFFSETTO:+0100
TZNAME:CET
DTSTART:20261025T010000
END:STANDARD
BEGIN:DAYLIGHT
TZOFFSETFROM:+0100
TZOFFSETTO:+0200
TZNAME:CEST
DTSTART:20270328T010000
END:DAYLIGHT
BEGIN:STANDARD
TZOFFSETFROM:+0200
TZOFFSETTO:+0100
TZNAME:CET
DTSTART:20271031T010000
END:STANDARD
END:VTIMEZONE
BEGIN:VEVENT
DTSTART;TZID=Europe/Berlin:20260313T160000
DTEND;TZID=Europe/Berlin:20260313T180000
DTSTAMP:20260421T101352
CREATED:20260312T090407Z
LAST-MODIFIED:20260312T090808Z
UID:2917-1773417600-1773424800@entwicklungsquelle.de
SUMMARY:kollegiales Treffen Kinesiologie
DESCRIPTION:Einmal im Quartal lade ich alle Kinesiologie-Lernenden und „fertigen“ KinesiologInnen herzlich zu einem kollegialen Treffen ein. Sämtliche Erfahrungsstufen sind Willkommen. \nDu bist aktuell in der Ausbildung und möchtest das Treffen zum Üben nutzen? Du wünschst Dir eine Supervision durch eine Kollegin? Du hast in private Themen und möchtest\, dass jemand von Außen draufschaut? Du hast vor längerer Zeit Kinesiologie gelernt\, aber selten aktiv angewendet und möchtest nun wieder starten? All das ist denkbar und noch Vieles mehr! 🙂 \nIch stelle den Raum\, richte Getränke her und mache eine Mini-Willkommensrunde\, in der Du Dein Anliegen formulieren kannst. Im Anschluss finden sich die Menschen zusammen\, die zueinander passen und sich austauschen bzw. arbeiten möchten. \nDie Plätze sind begrenzt und ab 14 Tage vor der Veranstaltung über „Termin buchen“ erhältlich. Von externen Gästen wünsche ich mir im Anschluss eine Spende in den Hut.
URL:https://entwicklungsquelle.de/event/kollegiales-treffen-kinesiologie/
LOCATION:EntWicklungsQuelle\, Herforder Str. 249\, Leopoldshöhe\, 33818
CATEGORIES:Netzwerken
ORGANIZER;CN="Sabine Diekmeier":MAILTO:info@entwicklungsquelle.de
END:VEVENT
END:VCALENDAR